BEGIN:VCALENDAR
VERSION:2.0
PRODID:-//hacksw/handcal//NONSGML v1.0//EN
CALSCALE:GREGORIAN
BEGIN:VEVENT
ORGANIZER;CN=SAIC:MAILTO:no-reply@gcs-web.com
DTEND:
UID:8e58ac9d-b351-45cd-9adc-d3880cffa0c5
DTSTAMP:1776869157
LOCATION:https://east.virtualshareholdermeeting.com/vsm/web?pvskey=SAIC2026
DESCRIPTION:Event Details https://investors.saic.com/events/event-details/2026-annual-meeting\n\nWebcast: https://east.virtualshareholdermeeting.com/vsm/web?pvskey=SAIC2026
URL;VALUE=URI:https://east.virtualshareholdermeeting.com/vsm/web?pvskey=SAIC2026
SUMMARY:SAIC - 2026 Annual Meeting
DTSTART:20260603T130000Z
END:VEVENT
END:VCALENDAR